15.5778
0
0
-15.5778
580690
4.51082e+06
